BEGIN:VCALENDAR
VERSION:2.0
PRODID:-//techoconference - ECPv6.14.2//NONSGML v1.0//EN
CALSCALE:GREGORIAN
METHOD:PUBLISH
X-WR-CALNAME:techoconference
X-ORIGINAL-URL:https://techoconference.com
X-WR-CALDESC:Events for techoconference
REFRESH-INTERVAL;VALUE=DURATION:PT1H
X-Robots-Tag:noindex
X-PUBLISHED-TTL:PT1H
BEGIN:VTIMEZONE
TZID:UTC
BEGIN:STANDARD
TZOFFSETFROM:+0000
TZOFFSETTO:+0000
TZNAME:UTC
DTSTART:20260101T000000
END:STANDARD
END:VTIMEZONE
BEGIN:VEVENT
DTSTART;VALUE=DATE:20260901
DTEND;VALUE=DATE:20260904
DTSTAMP:20260423T162820
CREATED:20190708T082837Z
LAST-MODIFIED:20251111T123203Z
UID:372-1788220800-1788479999@techoconference.com
SUMMARY:The First Series - Washington DC\, USA
DESCRIPTION:The first series\, scheduled for September 1 – 3\, 2026\, in Washington DC.\, USA\, is an exclusive event designed specifically for Black parliamentarians\, partners\, and startups. \nThis unique gathering that sets the stage for the main conference aims to facilitate collaboration and knowledge sharing among Black parliamentarians worldwide. This global partnership event among Black parliamentarians aims to unify their efforts in amplifying Black voices worldwide\, address shared concerns through a cohesive approach and drive investments in Black-led innovators. \nWhy Attend: \n\nConnect with a global network of innovators\, investors and policymakers\nAccess funding opportunities and investment options\nShowcase your innovative solutions to a global audience\nLearn from industry experts and thought leaders\nNetwork with potential partners and collaborators
URL:https://techoconference.com/event/washington-dc-usa/
LOCATION:Washington DC.\, WA\, United States
ATTACH;FMTTYPE=image/jpeg:https://techoconference.com/wp-content/uploads/2019/07/IMG-20250302-WA0015.jpg
END:VEVENT
END:VCALENDAR